BEGIN:VCALENDAR
VERSION:2.0
PRODID:-//echidna61e35b96.brizy.site//NONSGML kigkonsult.se iCalcreator 2.3
 9.1//
CALSCALE:GREGORIAN
METHOD:PUBLISH
UID:3d9f08d4-b5ef-498f-a7b7-99b9076dde26
X-WR-CALNAME:echidna61e35b96.brizy.site
X-WR-CALDESC:echidna61e35b96.brizy.site
X-WR-TIMEZONE:America/Los_Angeles
X-LIC-LOCATION:America/Los_Angeles
BEGIN:VEVENT
UID:4ad01fec-9e2e-4d52-953b-cca810a71281
DTSTAMP:20260424T104818Z
CLASS:PUBLIC
DTSTART;TZID=America/Los_Angeles:20260425T100000
DTEND;TZID=America/Los_Angeles:20260425T113000
SUMMARY:Class Example 1
TRANSP:OPAQUE
BEGIN:VALARM
ACTION:DISPLAY
DESCRIPTION:Class Example 1
TRIGGER:-PT15M
END:VALARM
END:VEVENT
END:VCALENDAR
